BEGIN:VCALENDAR
VERSION:2.0
PRODID:-//eventon.com NONSGML v1.0//EN
CALSCALE:GREGORIAN
METHOD:PUBLISH
BEGIN:VEVENT
UID:69e5ac3774fb0
DTSTAMP:20260420T043151Z
DTSTART:20251214T160000Z
DTEND:20251214T190000Z
LOCATION:Le Chalet 440\,  chemin Avila Piedmont (Québec) J0R 1K0
SUMMARY:La journée du père Noël
DESCRIPTION:En collaboration avec la municipalité de Piedmont \,  le père
  Noël arrive en hélico à 11 h aux Glissades du Domaine des Pays d’en H
 aut pour rencontrer les tout-petits et les grands! Chocolats chauds\,  bonb
 ons\,  invités spéciaux\,  DJ et ambiance festive! Seules les personnes a
 yant un billet de glisse pourront[..]\nhttps://domainedespaysdenhaut.com/ev
 enement/la-journee-du-pere-noel/
URL:https://domainedespaysdenhaut.com/evenement/la-journee-du-pere-noel/
END:VEVENT
END:VCALENDAR