BEGIN:VCALENDAR
VERSION:2.0
PRODID:-//eventon.com NONSGML v1.0//EN
CALSCALE:GREGORIAN
METHOD:PUBLISH
BEGIN:VEVENT
UID:69e5aed4489f3
DTSTAMP:20260420T044300Z
DTSTART:20251220T140000Z
DTEND:20260104T210000Z
LOCATION:
SUMMARY:Le temps des Fêtes aux Glissades
DESCRIPTION:Du 20 au 25 décembre 2025\,  il sera possible de profiter des 
 glissades de 9 h jusqu’à 16 h. Le 31 décembre et le 1er janvier\,  elle
 s seront ouvertes jusqu’à 17 h. C’est aussi le retour des soirées aux
  Glissades\,  une expérience unique et exaltante sous les étoiles! Du 26[
 ..]\nhttps://domainedespaysdenhaut.com/evenement/le-temps-des-fetes-aux-gli
 ssades/
URL:https://domainedespaysdenhaut.com/evenement/le-temps-des-fetes-aux-glissades/
END:VEVENT
END:VCALENDAR